BEGIN:VCALENDAR
VERSION:2.0
PRODID:-//Pyramid Analytics - ECPv6.15.20//NONSGML v1.0//EN
CALSCALE:GREGORIAN
METHOD:PUBLISH
X-WR-CALNAME:Pyramid Analytics
X-ORIGINAL-URL:https://www.pyramidanalytics.com
X-WR-CALDESC:Events for Pyramid Analytics
REFRESH-INTERVAL;VALUE=DURATION:PT1H
X-Robots-Tag:noindex
X-PUBLISHED-TTL:PT1H
BEGIN:VTIMEZONE
TZID:Europe/London
BEGIN:DAYLIGHT
TZOFFSETFROM:+0000
TZOFFSETTO:+0100
TZNAME:BST
DTSTART:20240331T010000
END:DAYLIGHT
BEGIN:STANDARD
TZOFFSETFROM:+0100
TZOFFSETTO:+0000
TZNAME:GMT
DTSTART:20241027T010000
END:STANDARD
BEGIN:DAYLIGHT
TZOFFSETFROM:+0000
TZOFFSETTO:+0100
TZNAME:BST
DTSTART:20250330T010000
END:DAYLIGHT
BEGIN:STANDARD
TZOFFSETFROM:+0100
TZOFFSETTO:+0000
TZNAME:GMT
DTSTART:20251026T010000
END:STANDARD
BEGIN:DAYLIGHT
TZOFFSETFROM:+0000
TZOFFSETTO:+0100
TZNAME:BST
DTSTART:20260329T010000
END:DAYLIGHT
BEGIN:STANDARD
TZOFFSETFROM:+0100
TZOFFSETTO:+0000
TZNAME:GMT
DTSTART:20261025T010000
END:STANDARD
END:VTIMEZONE
BEGIN:VTIMEZONE
TZID:America/Boise
BEGIN:DAYLIGHT
TZOFFSETFROM:-0700
TZOFFSETTO:-0600
TZNAME:MDT
DTSTART:20230312T090000
END:DAYLIGHT
BEGIN:STANDARD
TZOFFSETFROM:-0600
TZOFFSETTO:-0700
TZNAME:MST
DTSTART:20231105T080000
END:STANDARD
BEGIN:DAYLIGHT
TZOFFSETFROM:-0700
TZOFFSETTO:-0600
TZNAME:MDT
DTSTART:20240310T090000
END:DAYLIGHT
BEGIN:STANDARD
TZOFFSETFROM:-0600
TZOFFSETTO:-0700
TZNAME:MST
DTSTART:20241103T080000
END:STANDARD
BEGIN:DAYLIGHT
TZOFFSETFROM:-0700
TZOFFSETTO:-0600
TZNAME:MDT
DTSTART:20250309T090000
END:DAYLIGHT
BEGIN:STANDARD
TZOFFSETFROM:-0600
TZOFFSETTO:-0700
TZNAME:MST
DTSTART:20251102T080000
END:STANDARD
END:VTIMEZONE
BEGIN:VTIMEZONE
TZID:America/Mexico_City
BEGIN:STANDARD
TZOFFSETFROM:-0600
TZOFFSETTO:-0600
TZNAME:CST
DTSTART:20230101T000000
END:STANDARD
END:VTIMEZONE
BEGIN:VEVENT
DTSTART;VALUE=DATE:20250512
DTEND;VALUE=DATE:20250515
DTSTAMP:20260420T122951
CREATED:20250410T010716Z
LAST-MODIFIED:20250410T055932Z
UID:10000153-1747008000-1747267199@www.pyramidanalytics.com
SUMMARY:Gartner London 2025
DESCRIPTION:
URL:https://www.pyramidanalytics.com/event/gartner-london-2025/
LOCATION:ExCel London\, Royal Victoria Dock\, 1 Western Gateway\, London\, E16 1XL\, United Kingdom
CATEGORIES:Conference Event,Regional Event
ATTACH;FMTTYPE=image/webp:https://www.pyramidanalytics.com/wp-content/uploads/2025/04/sec26i-overview-venue.webp
END:VEVENT
BEGIN:VEVENT
DTSTART;TZID=America/Boise:20240912T080000
DTEND;TZID=America/Boise:20240925T170000
DTSTAMP:20260420T122951
CREATED:20240511T054617Z
LAST-MODIFIED:20240923T043312Z
UID:10000128-1726128000-1727283600@www.pyramidanalytics.com
SUMMARY:Whiskey Stories® for Analytics Changemakers - NYC\, Boston and Chicago!
DESCRIPTION:
URL:https://www.pyramidanalytics.com/event/whiskey-stories-for-analytics-changemakers/
CATEGORIES:Regional Event
ATTACH;FMTTYPE=image/jpeg:https://www.pyramidanalytics.com/wp-content/uploads/2024/05/whiskey-stories-2.jpg
END:VEVENT
BEGIN:VEVENT
DTSTART;TZID=America/Mexico_City:20240417T183000
DTEND;TZID=America/Mexico_City:20240417T220000
DTSTAMP:20260420T122951
CREATED:20240327T043709Z
LAST-MODIFIED:20240327T044741Z
UID:10000124-1713378600-1713391200@www.pyramidanalytics.com
SUMMARY:GenBI  Thinkers Forum – Mexico City
DESCRIPTION:
URL:https://www.pyramidanalytics.com/event/genbi-thinkers-forum/
LOCATION:Club 51\, Torre Mayor Reforma 505 Piso 51\, Ciudad de Mexico\, Mexico
CATEGORIES:Regional Event
ATTACH;FMTTYPE=image/png:https://www.pyramidanalytics.com/wp-content/uploads/2024/02/regional-event.png
END:VEVENT
END:VCALENDAR